BEGIN:VCALENDAR
VERSION:2.0
PRODID:-//The Winkin Owl - ECPv6.15.20//NONSGML v1.0//EN
CALSCALE:GREGORIAN
METHOD:PUBLISH
X-ORIGINAL-URL:https://thewinkinowl.com
X-WR-CALDESC:Events for The Winkin Owl
REFRESH-INTERVAL;VALUE=DURATION:PT1H
X-Robots-Tag:noindex
X-PUBLISHED-TTL:PT1H
BEGIN:VTIMEZONE
TZID:America/Toronto
BEGIN:DAYLIGHT
TZOFFSETFROM:-0500
TZOFFSETTO:-0400
TZNAME:EDT
DTSTART:20250309T070000
END:DAYLIGHT
BEGIN:STANDARD
TZOFFSETFROM:-0400
TZOFFSETTO:-0500
TZNAME:EST
DTSTART:20251102T060000
END:STANDARD
BEGIN:DAYLIGHT
TZOFFSETFROM:-0500
TZOFFSETTO:-0400
TZNAME:EDT
DTSTART:20260308T070000
END:DAYLIGHT
BEGIN:STANDARD
TZOFFSETFROM:-0400
TZOFFSETTO:-0500
TZNAME:EST
DTSTART:20261101T060000
END:STANDARD
BEGIN:DAYLIGHT
TZOFFSETFROM:-0500
TZOFFSETTO:-0400
TZNAME:EDT
DTSTART:20270314T070000
END:DAYLIGHT
BEGIN:STANDARD
TZOFFSETFROM:-0400
TZOFFSETTO:-0500
TZNAME:EST
DTSTART:20271107T060000
END:STANDARD
END:VTIMEZONE
BEGIN:VEVENT
DTSTART;TZID=America/Toronto:20260626T000000
DTEND;TZID=America/Toronto:20260626T180000
DTSTAMP:20260421T164555
CREATED:20260415T130326Z
LAST-MODIFIED:20260415T130326Z
UID:10003346-1782432000-1782496800@thewinkinowl.com
SUMMARY:Slack Alice
DESCRIPTION:
URL:https://thewinkinowl.com/event/slack-alice-5/
CATEGORIES:Band
ATTACH;FMTTYPE=image/jpeg:https://thewinkinowl.com/wp-content/uploads/2025/04/slack-Alice.jpg
END:VEVENT
END:VCALENDAR