BEGIN:VCALENDAR
VERSION:2.0
PRODID:-//The Winkin Owl - ECPv6.15.20//NONSGML v1.0//EN
CALSCALE:GREGORIAN
METHOD:PUBLISH
X-WR-CALNAME:The Winkin Owl
X-ORIGINAL-URL:https://thewinkinowl.com
X-WR-CALDESC:Events for The Winkin Owl
REFRESH-INTERVAL;VALUE=DURATION:PT1H
X-Robots-Tag:noindex
X-PUBLISHED-TTL:PT1H
BEGIN:VTIMEZONE
TZID:America/Toronto
BEGIN:DAYLIGHT
TZOFFSETFROM:-0500
TZOFFSETTO:-0400
TZNAME:EDT
DTSTART:20250309T070000
END:DAYLIGHT
BEGIN:STANDARD
TZOFFSETFROM:-0400
TZOFFSETTO:-0500
TZNAME:EST
DTSTART:20251102T060000
END:STANDARD
BEGIN:DAYLIGHT
TZOFFSETFROM:-0500
TZOFFSETTO:-0400
TZNAME:EDT
DTSTART:20260308T070000
END:DAYLIGHT
BEGIN:STANDARD
TZOFFSETFROM:-0400
TZOFFSETTO:-0500
TZNAME:EST
DTSTART:20261101T060000
END:STANDARD
BEGIN:DAYLIGHT
TZOFFSETFROM:-0500
TZOFFSETTO:-0400
TZNAME:EDT
DTSTART:20270314T070000
END:DAYLIGHT
BEGIN:STANDARD
TZOFFSETFROM:-0400
TZOFFSETTO:-0500
TZNAME:EST
DTSTART:20271107T060000
END:STANDARD
END:VTIMEZONE
BEGIN:VEVENT
DTSTART;TZID=America/Toronto:20260807T000000
DTEND;TZID=America/Toronto:20260807T180000
DTSTAMP:20260421T193831
CREATED:20260415T133239Z
LAST-MODIFIED:20260415T133343Z
UID:10003352-1786060800-1786125600@thewinkinowl.com
SUMMARY:Rock Bottom
DESCRIPTION:
URL:https://thewinkinowl.com/event/rock-bottom-7/
CATEGORIES:Band
ATTACH;FMTTYPE=image/jpeg:https://thewinkinowl.com/wp-content/uploads/2025/08/Rock-Bottom.jpg
END:VEVENT
END:VCALENDAR