BEGIN:VCALENDAR
VERSION:2.0
PRODID:-//The Winkin Owl - ECPv6.15.20//NONSGML v1.0//EN
CALSCALE:GREGORIAN
METHOD:PUBLISH
X-WR-CALNAME:The Winkin Owl
X-ORIGINAL-URL:https://thewinkinowl.com
X-WR-CALDESC:Events for The Winkin Owl
REFRESH-INTERVAL;VALUE=DURATION:PT1H
X-Robots-Tag:noindex
X-PUBLISHED-TTL:PT1H
BEGIN:VTIMEZONE
TZID:America/Toronto
BEGIN:DAYLIGHT
TZOFFSETFROM:-0500
TZOFFSETTO:-0400
TZNAME:EDT
DTSTART:20280312T070000
END:DAYLIGHT
BEGIN:STANDARD
TZOFFSETFROM:-0400
TZOFFSETTO:-0500
TZNAME:EST
DTSTART:20281105T060000
END:STANDARD
BEGIN:DAYLIGHT
TZOFFSETFROM:-0500
TZOFFSETTO:-0400
TZNAME:EDT
DTSTART:20290311T070000
END:DAYLIGHT
BEGIN:STANDARD
TZOFFSETFROM:-0400
TZOFFSETTO:-0500
TZNAME:EST
DTSTART:20291104T060000
END:STANDARD
BEGIN:DAYLIGHT
TZOFFSETFROM:-0500
TZOFFSETTO:-0400
TZNAME:EDT
DTSTART:20300310T070000
END:DAYLIGHT
BEGIN:STANDARD
TZOFFSETFROM:-0400
TZOFFSETTO:-0500
TZNAME:EST
DTSTART:20301103T060000
END:STANDARD
BEGIN:DAYLIGHT
TZOFFSETFROM:-0500
TZOFFSETTO:-0400
TZNAME:EDT
DTSTART:20310309T070000
END:DAYLIGHT
BEGIN:STANDARD
TZOFFSETFROM:-0400
TZOFFSETTO:-0500
TZNAME:EST
DTSTART:20311102T060000
END:STANDARD
END:VTIMEZONE
BEGIN:VEVENT
DTSTART;VALUE=DATE:20291202
DTEND;VALUE=DATE:20291203
DTSTAMP:20260419T165918
CREATED:20260403T163240Z
LAST-MODIFIED:20260403T163249Z
UID:10003266-1890864000-1890950399@thewinkinowl.com
SUMMARY:Wing Night(Day)
DESCRIPTION:
URL:https://thewinkinowl.com/event/wing-nightday-2/2029-12-02/
CATEGORIES:Week Night
END:VEVENT
BEGIN:VEVENT
DTSTART;VALUE=DATE:20291209
DTEND;VALUE=DATE:20291210
DTSTAMP:20260419T165918
CREATED:20260403T163240Z
LAST-MODIFIED:20260403T163249Z
UID:10003267-1891468800-1891555199@thewinkinowl.com
SUMMARY:Wing Night(Day)
DESCRIPTION:
URL:https://thewinkinowl.com/event/wing-nightday-2/2029-12-09/
CATEGORIES:Week Night
END:VEVENT
BEGIN:VEVENT
DTSTART;VALUE=DATE:20291216
DTEND;VALUE=DATE:20291217
DTSTAMP:20260419T165918
CREATED:20260403T163240Z
LAST-MODIFIED:20260403T163249Z
UID:10003268-1892073600-1892159999@thewinkinowl.com
SUMMARY:Wing Night(Day)
DESCRIPTION:
URL:https://thewinkinowl.com/event/wing-nightday-2/2029-12-16/
CATEGORIES:Week Night
END:VEVENT
BEGIN:VEVENT
DTSTART;VALUE=DATE:20291223
DTEND;VALUE=DATE:20291224
DTSTAMP:20260419T165918
CREATED:20260403T163240Z
LAST-MODIFIED:20260403T163249Z
UID:10003269-1892678400-1892764799@thewinkinowl.com
SUMMARY:Wing Night(Day)
DESCRIPTION:
URL:https://thewinkinowl.com/event/wing-nightday-2/2029-12-23/
CATEGORIES:Week Night
END:VEVENT
BEGIN:VEVENT
DTSTART;VALUE=DATE:20291230
DTEND;VALUE=DATE:20291231
DTSTAMP:20260419T165918
CREATED:20260403T163240Z
LAST-MODIFIED:20260403T163249Z
UID:10003270-1893283200-1893369599@thewinkinowl.com
SUMMARY:Wing Night(Day)
DESCRIPTION:
URL:https://thewinkinowl.com/event/wing-nightday-2/2029-12-30/
CATEGORIES:Week Night
END:VEVENT
BEGIN:VEVENT
DTSTART;VALUE=DATE:20300106
DTEND;VALUE=DATE:20300107
DTSTAMP:20260419T165918
CREATED:20260403T163240Z
LAST-MODIFIED:20260403T163249Z
UID:10003271-1893888000-1893974399@thewinkinowl.com
SUMMARY:Wing Night(Day)
DESCRIPTION:
URL:https://thewinkinowl.com/event/wing-nightday-2/2030-01-06/
CATEGORIES:Week Night
END:VEVENT
BEGIN:VEVENT
DTSTART;VALUE=DATE:20300113
DTEND;VALUE=DATE:20300114
DTSTAMP:20260419T165918
CREATED:20260403T163240Z
LAST-MODIFIED:20260403T163249Z
UID:10003272-1894492800-1894579199@thewinkinowl.com
SUMMARY:Wing Night(Day)
DESCRIPTION:
URL:https://thewinkinowl.com/event/wing-nightday-2/2030-01-13/
CATEGORIES:Week Night
END:VEVENT
BEGIN:VEVENT
DTSTART;VALUE=DATE:20300120
DTEND;VALUE=DATE:20300121
DTSTAMP:20260419T165918
CREATED:20260403T163240Z
LAST-MODIFIED:20260403T163249Z
UID:10003273-1895097600-1895183999@thewinkinowl.com
SUMMARY:Wing Night(Day)
DESCRIPTION:
URL:https://thewinkinowl.com/event/wing-nightday-2/2030-01-20/
CATEGORIES:Week Night
END:VEVENT
BEGIN:VEVENT
DTSTART;VALUE=DATE:20300127
DTEND;VALUE=DATE:20300128
DTSTAMP:20260419T165918
CREATED:20260403T163240Z
LAST-MODIFIED:20260403T163249Z
UID:10003274-1895702400-1895788799@thewinkinowl.com
SUMMARY:Wing Night(Day)
DESCRIPTION:
URL:https://thewinkinowl.com/event/wing-nightday-2/2030-01-27/
CATEGORIES:Week Night
END:VEVENT
BEGIN:VEVENT
DTSTART;VALUE=DATE:20300203
DTEND;VALUE=DATE:20300204
DTSTAMP:20260419T165918
CREATED:20260403T163240Z
LAST-MODIFIED:20260403T163249Z
UID:10003275-1896307200-1896393599@thewinkinowl.com
SUMMARY:Wing Night(Day)
DESCRIPTION:
URL:https://thewinkinowl.com/event/wing-nightday-2/2030-02-03/
CATEGORIES:Week Night
END:VEVENT
BEGIN:VEVENT
DTSTART;VALUE=DATE:20300210
DTEND;VALUE=DATE:20300211
DTSTAMP:20260419T165918
CREATED:20260403T163240Z
LAST-MODIFIED:20260403T163249Z
UID:10003276-1896912000-1896998399@thewinkinowl.com
SUMMARY:Wing Night(Day)
DESCRIPTION:
URL:https://thewinkinowl.com/event/wing-nightday-2/2030-02-10/
CATEGORIES:Week Night
END:VEVENT
BEGIN:VEVENT
DTSTART;VALUE=DATE:20300217
DTEND;VALUE=DATE:20300218
DTSTAMP:20260419T165918
CREATED:20260403T163240Z
LAST-MODIFIED:20260403T163249Z
UID:10003277-1897516800-1897603199@thewinkinowl.com
SUMMARY:Wing Night(Day)
DESCRIPTION:
URL:https://thewinkinowl.com/event/wing-nightday-2/2030-02-17/
CATEGORIES:Week Night
END:VEVENT
BEGIN:VEVENT
DTSTART;VALUE=DATE:20300224
DTEND;VALUE=DATE:20300225
DTSTAMP:20260419T165918
CREATED:20260403T163240Z
LAST-MODIFIED:20260403T163249Z
UID:10003278-1898121600-1898207999@thewinkinowl.com
SUMMARY:Wing Night(Day)
DESCRIPTION:
URL:https://thewinkinowl.com/event/wing-nightday-2/2030-02-24/
CATEGORIES:Week Night
END:VEVENT
BEGIN:VEVENT
DTSTART;VALUE=DATE:20300303
DTEND;VALUE=DATE:20300304
DTSTAMP:20260419T165918
CREATED:20260403T163240Z
LAST-MODIFIED:20260403T163249Z
UID:10003279-1898726400-1898812799@thewinkinowl.com
SUMMARY:Wing Night(Day)
DESCRIPTION:
URL:https://thewinkinowl.com/event/wing-nightday-2/2030-03-03/
CATEGORIES:Week Night
END:VEVENT
BEGIN:VEVENT
DTSTART;VALUE=DATE:20300310
DTEND;VALUE=DATE:20300312
DTSTAMP:20260419T165918
CREATED:20260403T163240Z
LAST-MODIFIED:20260403T163249Z
UID:10003280-1899331200-1899421199@thewinkinowl.com
SUMMARY:Wing Night(Day)
DESCRIPTION:
URL:https://thewinkinowl.com/event/wing-nightday-2/2030-03-10/
CATEGORIES:Week Night
END:VEVENT
BEGIN:VEVENT
DTSTART;VALUE=DATE:20300317
DTEND;VALUE=DATE:20300318
DTSTAMP:20260419T165918
CREATED:20260403T163240Z
LAST-MODIFIED:20260403T163249Z
UID:10003281-1899936000-1900022399@thewinkinowl.com
SUMMARY:Wing Night(Day)
DESCRIPTION:
URL:https://thewinkinowl.com/event/wing-nightday-2/2030-03-17/
CATEGORIES:Week Night
END:VEVENT
BEGIN:VEVENT
DTSTART;VALUE=DATE:20300324
DTEND;VALUE=DATE:20300325
DTSTAMP:20260419T165918
CREATED:20260403T163240Z
LAST-MODIFIED:20260403T163249Z
UID:10003282-1900540800-1900627199@thewinkinowl.com
SUMMARY:Wing Night(Day)
DESCRIPTION:
URL:https://thewinkinowl.com/event/wing-nightday-2/2030-03-24/
CATEGORIES:Week Night
END:VEVENT
BEGIN:VEVENT
DTSTART;VALUE=DATE:20300331
DTEND;VALUE=DATE:20300401
DTSTAMP:20260419T165918
CREATED:20260403T163240Z
LAST-MODIFIED:20260403T163249Z
UID:10003283-1901145600-1901231999@thewinkinowl.com
SUMMARY:Wing Night(Day)
DESCRIPTION:
URL:https://thewinkinowl.com/event/wing-nightday-2/2030-03-31/
CATEGORIES:Week Night
END:VEVENT
BEGIN:VEVENT
DTSTART;VALUE=DATE:20300407
DTEND;VALUE=DATE:20300408
DTSTAMP:20260419T165918
CREATED:20260403T163240Z
LAST-MODIFIED:20260403T163249Z
UID:10003284-1901750400-1901836799@thewinkinowl.com
SUMMARY:Wing Night(Day)
DESCRIPTION:
URL:https://thewinkinowl.com/event/wing-nightday-2/2030-04-07/
CATEGORIES:Week Night
END:VEVENT
BEGIN:VEVENT
DTSTART;VALUE=DATE:20300414
DTEND;VALUE=DATE:20300415
DTSTAMP:20260419T165918
CREATED:20260403T163240Z
LAST-MODIFIED:20260403T163249Z
UID:10003285-1902355200-1902441599@thewinkinowl.com
SUMMARY:Wing Night(Day)
DESCRIPTION:
URL:https://thewinkinowl.com/event/wing-nightday-2/2030-04-14/
CATEGORIES:Week Night
END:VEVENT
BEGIN:VEVENT
DTSTART;VALUE=DATE:20300421
DTEND;VALUE=DATE:20300422
DTSTAMP:20260419T165919
CREATED:20260403T163240Z
LAST-MODIFIED:20260403T163249Z
UID:10003286-1902960000-1903046399@thewinkinowl.com
SUMMARY:Wing Night(Day)
DESCRIPTION:
URL:https://thewinkinowl.com/event/wing-nightday-2/2030-04-21/
CATEGORIES:Week Night
END:VEVENT
BEGIN:VEVENT
DTSTART;VALUE=DATE:20300428
DTEND;VALUE=DATE:20300429
DTSTAMP:20260419T165919
CREATED:20260403T163240Z
LAST-MODIFIED:20260403T163249Z
UID:10003287-1903564800-1903651199@thewinkinowl.com
SUMMARY:Wing Night(Day)
DESCRIPTION:
URL:https://thewinkinowl.com/event/wing-nightday-2/2030-04-28/
CATEGORIES:Week Night
END:VEVENT
BEGIN:VEVENT
DTSTART;VALUE=DATE:20300505
DTEND;VALUE=DATE:20300506
DTSTAMP:20260419T165919
CREATED:20260403T163240Z
LAST-MODIFIED:20260403T163249Z
UID:10003288-1904169600-1904255999@thewinkinowl.com
SUMMARY:Wing Night(Day)
DESCRIPTION:
URL:https://thewinkinowl.com/event/wing-nightday-2/2030-05-05/
CATEGORIES:Week Night
END:VEVENT
BEGIN:VEVENT
DTSTART;VALUE=DATE:20300512
DTEND;VALUE=DATE:20300513
DTSTAMP:20260419T165919
CREATED:20260403T163240Z
LAST-MODIFIED:20260403T163249Z
UID:10003289-1904774400-1904860799@thewinkinowl.com
SUMMARY:Wing Night(Day)
DESCRIPTION:
URL:https://thewinkinowl.com/event/wing-nightday-2/2030-05-12/
CATEGORIES:Week Night
END:VEVENT
BEGIN:VEVENT
DTSTART;VALUE=DATE:20300519
DTEND;VALUE=DATE:20300520
DTSTAMP:20260419T165919
CREATED:20260403T163240Z
LAST-MODIFIED:20260403T163249Z
UID:10003290-1905379200-1905465599@thewinkinowl.com
SUMMARY:Wing Night(Day)
DESCRIPTION:
URL:https://thewinkinowl.com/event/wing-nightday-2/2030-05-19/
CATEGORIES:Week Night
END:VEVENT
BEGIN:VEVENT
DTSTART;VALUE=DATE:20300526
DTEND;VALUE=DATE:20300527
DTSTAMP:20260419T165919
CREATED:20260403T163240Z
LAST-MODIFIED:20260403T163249Z
UID:10003291-1905984000-1906070399@thewinkinowl.com
SUMMARY:Wing Night(Day)
DESCRIPTION:
URL:https://thewinkinowl.com/event/wing-nightday-2/2030-05-26/
CATEGORIES:Week Night
END:VEVENT
BEGIN:VEVENT
DTSTART;VALUE=DATE:20300602
DTEND;VALUE=DATE:20300603
DTSTAMP:20260419T165919
CREATED:20260403T163240Z
LAST-MODIFIED:20260403T163249Z
UID:10003292-1906588800-1906675199@thewinkinowl.com
SUMMARY:Wing Night(Day)
DESCRIPTION:
URL:https://thewinkinowl.com/event/wing-nightday-2/2030-06-02/
CATEGORIES:Week Night
END:VEVENT
BEGIN:VEVENT
DTSTART;VALUE=DATE:20300609
DTEND;VALUE=DATE:20300610
DTSTAMP:20260419T165919
CREATED:20260403T163240Z
LAST-MODIFIED:20260403T163249Z
UID:10003293-1907193600-1907279999@thewinkinowl.com
SUMMARY:Wing Night(Day)
DESCRIPTION:
URL:https://thewinkinowl.com/event/wing-nightday-2/2030-06-09/
CATEGORIES:Week Night
END:VEVENT
BEGIN:VEVENT
DTSTART;VALUE=DATE:20300616
DTEND;VALUE=DATE:20300617
DTSTAMP:20260419T165919
CREATED:20260403T163240Z
LAST-MODIFIED:20260403T163249Z
UID:10003294-1907798400-1907884799@thewinkinowl.com
SUMMARY:Wing Night(Day)
DESCRIPTION:
URL:https://thewinkinowl.com/event/wing-nightday-2/2030-06-16/
CATEGORIES:Week Night
END:VEVENT
BEGIN:VEVENT
DTSTART;VALUE=DATE:20300623
DTEND;VALUE=DATE:20300624
DTSTAMP:20260419T165919
CREATED:20260403T163240Z
LAST-MODIFIED:20260403T163249Z
UID:10003295-1908403200-1908489599@thewinkinowl.com
SUMMARY:Wing Night(Day)
DESCRIPTION:
URL:https://thewinkinowl.com/event/wing-nightday-2/2030-06-23/
CATEGORIES:Week Night
END:VEVENT
END:VCALENDAR