BEGIN:VCALENDAR
VERSION:2.0
PRODID:-//The Winkin Owl - ECPv6.15.20//NONSGML v1.0//EN
CALSCALE:GREGORIAN
METHOD:PUBLISH
X-WR-CALNAME:The Winkin Owl
X-ORIGINAL-URL:https://thewinkinowl.com
X-WR-CALDESC:Events for The Winkin Owl
REFRESH-INTERVAL;VALUE=DURATION:PT1H
X-Robots-Tag:noindex
X-PUBLISHED-TTL:PT1H
BEGIN:VTIMEZONE
TZID:America/Toronto
BEGIN:DAYLIGHT
TZOFFSETFROM:-0500
TZOFFSETTO:-0400
TZNAME:EDT
DTSTART:20290311T070000
END:DAYLIGHT
BEGIN:STANDARD
TZOFFSETFROM:-0400
TZOFFSETTO:-0500
TZNAME:EST
DTSTART:20291104T060000
END:STANDARD
BEGIN:DAYLIGHT
TZOFFSETFROM:-0500
TZOFFSETTO:-0400
TZNAME:EDT
DTSTART:20300310T070000
END:DAYLIGHT
BEGIN:STANDARD
TZOFFSETFROM:-0400
TZOFFSETTO:-0500
TZNAME:EST
DTSTART:20301103T060000
END:STANDARD
BEGIN:DAYLIGHT
TZOFFSETFROM:-0500
TZOFFSETTO:-0400
TZNAME:EDT
DTSTART:20310309T070000
END:DAYLIGHT
BEGIN:STANDARD
TZOFFSETFROM:-0400
TZOFFSETTO:-0500
TZNAME:EST
DTSTART:20311102T060000
END:STANDARD
END:VTIMEZONE
BEGIN:VEVENT
DTSTART;VALUE=DATE:20300331
DTEND;VALUE=DATE:20300401
DTSTAMP:20260419T141310
CREATED:20260403T163240Z
LAST-MODIFIED:20260403T163249Z
UID:10003283-1901145600-1901231999@thewinkinowl.com
SUMMARY:Wing Night(Day)
DESCRIPTION:
URL:https://thewinkinowl.com/event/wing-nightday-2/2030-03-31/
CATEGORIES:Week Night
END:VEVENT
BEGIN:VEVENT
DTSTART;VALUE=DATE:20300407
DTEND;VALUE=DATE:20300408
DTSTAMP:20260419T141310
CREATED:20260403T163240Z
LAST-MODIFIED:20260403T163249Z
UID:10003284-1901750400-1901836799@thewinkinowl.com
SUMMARY:Wing Night(Day)
DESCRIPTION:
URL:https://thewinkinowl.com/event/wing-nightday-2/2030-04-07/
CATEGORIES:Week Night
END:VEVENT
BEGIN:VEVENT
DTSTART;VALUE=DATE:20300414
DTEND;VALUE=DATE:20300415
DTSTAMP:20260419T141310
CREATED:20260403T163240Z
LAST-MODIFIED:20260403T163249Z
UID:10003285-1902355200-1902441599@thewinkinowl.com
SUMMARY:Wing Night(Day)
DESCRIPTION:
URL:https://thewinkinowl.com/event/wing-nightday-2/2030-04-14/
CATEGORIES:Week Night
END:VEVENT
BEGIN:VEVENT
DTSTART;VALUE=DATE:20300421
DTEND;VALUE=DATE:20300422
DTSTAMP:20260419T141310
CREATED:20260403T163240Z
LAST-MODIFIED:20260403T163249Z
UID:10003286-1902960000-1903046399@thewinkinowl.com
SUMMARY:Wing Night(Day)
DESCRIPTION:
URL:https://thewinkinowl.com/event/wing-nightday-2/2030-04-21/
CATEGORIES:Week Night
END:VEVENT
BEGIN:VEVENT
DTSTART;VALUE=DATE:20300428
DTEND;VALUE=DATE:20300429
DTSTAMP:20260419T141310
CREATED:20260403T163240Z
LAST-MODIFIED:20260403T163249Z
UID:10003287-1903564800-1903651199@thewinkinowl.com
SUMMARY:Wing Night(Day)
DESCRIPTION:
URL:https://thewinkinowl.com/event/wing-nightday-2/2030-04-28/
CATEGORIES:Week Night
END:VEVENT
BEGIN:VEVENT
DTSTART;VALUE=DATE:20300505
DTEND;VALUE=DATE:20300506
DTSTAMP:20260419T141310
CREATED:20260403T163240Z
LAST-MODIFIED:20260403T163249Z
UID:10003288-1904169600-1904255999@thewinkinowl.com
SUMMARY:Wing Night(Day)
DESCRIPTION:
URL:https://thewinkinowl.com/event/wing-nightday-2/2030-05-05/
CATEGORIES:Week Night
END:VEVENT
BEGIN:VEVENT
DTSTART;VALUE=DATE:20300512
DTEND;VALUE=DATE:20300513
DTSTAMP:20260419T141310
CREATED:20260403T163240Z
LAST-MODIFIED:20260403T163249Z
UID:10003289-1904774400-1904860799@thewinkinowl.com
SUMMARY:Wing Night(Day)
DESCRIPTION:
URL:https://thewinkinowl.com/event/wing-nightday-2/2030-05-12/
CATEGORIES:Week Night
END:VEVENT
BEGIN:VEVENT
DTSTART;VALUE=DATE:20300519
DTEND;VALUE=DATE:20300520
DTSTAMP:20260419T141310
CREATED:20260403T163240Z
LAST-MODIFIED:20260403T163249Z
UID:10003290-1905379200-1905465599@thewinkinowl.com
SUMMARY:Wing Night(Day)
DESCRIPTION:
URL:https://thewinkinowl.com/event/wing-nightday-2/2030-05-19/
CATEGORIES:Week Night
END:VEVENT
BEGIN:VEVENT
DTSTART;VALUE=DATE:20300526
DTEND;VALUE=DATE:20300527
DTSTAMP:20260419T141310
CREATED:20260403T163240Z
LAST-MODIFIED:20260403T163249Z
UID:10003291-1905984000-1906070399@thewinkinowl.com
SUMMARY:Wing Night(Day)
DESCRIPTION:
URL:https://thewinkinowl.com/event/wing-nightday-2/2030-05-26/
CATEGORIES:Week Night
END:VEVENT
BEGIN:VEVENT
DTSTART;VALUE=DATE:20300602
DTEND;VALUE=DATE:20300603
DTSTAMP:20260419T141310
CREATED:20260403T163240Z
LAST-MODIFIED:20260403T163249Z
UID:10003292-1906588800-1906675199@thewinkinowl.com
SUMMARY:Wing Night(Day)
DESCRIPTION:
URL:https://thewinkinowl.com/event/wing-nightday-2/2030-06-02/
CATEGORIES:Week Night
END:VEVENT
BEGIN:VEVENT
DTSTART;VALUE=DATE:20300609
DTEND;VALUE=DATE:20300610
DTSTAMP:20260419T141310
CREATED:20260403T163240Z
LAST-MODIFIED:20260403T163249Z
UID:10003293-1907193600-1907279999@thewinkinowl.com
SUMMARY:Wing Night(Day)
DESCRIPTION:
URL:https://thewinkinowl.com/event/wing-nightday-2/2030-06-09/
CATEGORIES:Week Night
END:VEVENT
BEGIN:VEVENT
DTSTART;VALUE=DATE:20300616
DTEND;VALUE=DATE:20300617
DTSTAMP:20260419T141310
CREATED:20260403T163240Z
LAST-MODIFIED:20260403T163249Z
UID:10003294-1907798400-1907884799@thewinkinowl.com
SUMMARY:Wing Night(Day)
DESCRIPTION:
URL:https://thewinkinowl.com/event/wing-nightday-2/2030-06-16/
CATEGORIES:Week Night
END:VEVENT
BEGIN:VEVENT
DTSTART;VALUE=DATE:20300623
DTEND;VALUE=DATE:20300624
DTSTAMP:20260419T141310
CREATED:20260403T163240Z
LAST-MODIFIED:20260403T163249Z
UID:10003295-1908403200-1908489599@thewinkinowl.com
SUMMARY:Wing Night(Day)
DESCRIPTION:
URL:https://thewinkinowl.com/event/wing-nightday-2/2030-06-23/
CATEGORIES:Week Night
END:VEVENT
BEGIN:VEVENT
DTSTART;VALUE=DATE:20300630
DTEND;VALUE=DATE:20300701
DTSTAMP:20260419T141310
CREATED:20260403T163240Z
LAST-MODIFIED:20260403T163249Z
UID:10003296-1909008000-1909094399@thewinkinowl.com
SUMMARY:Wing Night(Day)
DESCRIPTION:
URL:https://thewinkinowl.com/event/wing-nightday-2/2030-06-30/
CATEGORIES:Week Night
END:VEVENT
BEGIN:VEVENT
DTSTART;VALUE=DATE:20300707
DTEND;VALUE=DATE:20300708
DTSTAMP:20260419T141310
CREATED:20260403T163240Z
LAST-MODIFIED:20260403T163249Z
UID:10003297-1909612800-1909699199@thewinkinowl.com
SUMMARY:Wing Night(Day)
DESCRIPTION:
URL:https://thewinkinowl.com/event/wing-nightday-2/2030-07-07/
CATEGORIES:Week Night
END:VEVENT
BEGIN:VEVENT
DTSTART;VALUE=DATE:20300714
DTEND;VALUE=DATE:20300715
DTSTAMP:20260419T141310
CREATED:20260403T163240Z
LAST-MODIFIED:20260403T163249Z
UID:10003298-1910217600-1910303999@thewinkinowl.com
SUMMARY:Wing Night(Day)
DESCRIPTION:
URL:https://thewinkinowl.com/event/wing-nightday-2/2030-07-14/
CATEGORIES:Week Night
END:VEVENT
BEGIN:VEVENT
DTSTART;VALUE=DATE:20300721
DTEND;VALUE=DATE:20300722
DTSTAMP:20260419T141310
CREATED:20260403T163240Z
LAST-MODIFIED:20260403T163249Z
UID:10003299-1910822400-1910908799@thewinkinowl.com
SUMMARY:Wing Night(Day)
DESCRIPTION:
URL:https://thewinkinowl.com/event/wing-nightday-2/2030-07-21/
CATEGORIES:Week Night
END:VEVENT
BEGIN:VEVENT
DTSTART;VALUE=DATE:20300728
DTEND;VALUE=DATE:20300729
DTSTAMP:20260419T141310
CREATED:20260403T163240Z
LAST-MODIFIED:20260403T163249Z
UID:10003300-1911427200-1911513599@thewinkinowl.com
SUMMARY:Wing Night(Day)
DESCRIPTION:
URL:https://thewinkinowl.com/event/wing-nightday-2/2030-07-28/
CATEGORIES:Week Night
END:VEVENT
BEGIN:VEVENT
DTSTART;VALUE=DATE:20300804
DTEND;VALUE=DATE:20300805
DTSTAMP:20260419T141310
CREATED:20260403T163240Z
LAST-MODIFIED:20260403T163249Z
UID:10003301-1912032000-1912118399@thewinkinowl.com
SUMMARY:Wing Night(Day)
DESCRIPTION:
URL:https://thewinkinowl.com/event/wing-nightday-2/2030-08-04/
CATEGORIES:Week Night
END:VEVENT
BEGIN:VEVENT
DTSTART;VALUE=DATE:20300811
DTEND;VALUE=DATE:20300812
DTSTAMP:20260419T141310
CREATED:20260403T163240Z
LAST-MODIFIED:20260403T163249Z
UID:10003302-1912636800-1912723199@thewinkinowl.com
SUMMARY:Wing Night(Day)
DESCRIPTION:
URL:https://thewinkinowl.com/event/wing-nightday-2/2030-08-11/
CATEGORIES:Week Night
END:VEVENT
BEGIN:VEVENT
DTSTART;VALUE=DATE:20300818
DTEND;VALUE=DATE:20300819
DTSTAMP:20260419T141310
CREATED:20260403T163240Z
LAST-MODIFIED:20260403T163249Z
UID:10003303-1913241600-1913327999@thewinkinowl.com
SUMMARY:Wing Night(Day)
DESCRIPTION:
URL:https://thewinkinowl.com/event/wing-nightday-2/2030-08-18/
CATEGORIES:Week Night
END:VEVENT
BEGIN:VEVENT
DTSTART;VALUE=DATE:20300825
DTEND;VALUE=DATE:20300826
DTSTAMP:20260419T141310
CREATED:20260403T163240Z
LAST-MODIFIED:20260403T163249Z
UID:10003304-1913846400-1913932799@thewinkinowl.com
SUMMARY:Wing Night(Day)
DESCRIPTION:
URL:https://thewinkinowl.com/event/wing-nightday-2/2030-08-25/
CATEGORIES:Week Night
END:VEVENT
BEGIN:VEVENT
DTSTART;VALUE=DATE:20300901
DTEND;VALUE=DATE:20300902
DTSTAMP:20260419T141310
CREATED:20260403T163240Z
LAST-MODIFIED:20260403T163249Z
UID:10003305-1914451200-1914537599@thewinkinowl.com
SUMMARY:Wing Night(Day)
DESCRIPTION:
URL:https://thewinkinowl.com/event/wing-nightday-2/2030-09-01/
CATEGORIES:Week Night
END:VEVENT
BEGIN:VEVENT
DTSTART;VALUE=DATE:20300908
DTEND;VALUE=DATE:20300909
DTSTAMP:20260419T141310
CREATED:20260403T163240Z
LAST-MODIFIED:20260403T163249Z
UID:10003306-1915056000-1915142399@thewinkinowl.com
SUMMARY:Wing Night(Day)
DESCRIPTION:
URL:https://thewinkinowl.com/event/wing-nightday-2/2030-09-08/
CATEGORIES:Week Night
END:VEVENT
BEGIN:VEVENT
DTSTART;VALUE=DATE:20300915
DTEND;VALUE=DATE:20300916
DTSTAMP:20260419T141310
CREATED:20260403T163240Z
LAST-MODIFIED:20260403T163249Z
UID:10003307-1915660800-1915747199@thewinkinowl.com
SUMMARY:Wing Night(Day)
DESCRIPTION:
URL:https://thewinkinowl.com/event/wing-nightday-2/2030-09-15/
CATEGORIES:Week Night
END:VEVENT
BEGIN:VEVENT
DTSTART;VALUE=DATE:20300922
DTEND;VALUE=DATE:20300923
DTSTAMP:20260419T141310
CREATED:20260403T163240Z
LAST-MODIFIED:20260403T163249Z
UID:10003308-1916265600-1916351999@thewinkinowl.com
SUMMARY:Wing Night(Day)
DESCRIPTION:
URL:https://thewinkinowl.com/event/wing-nightday-2/2030-09-22/
CATEGORIES:Week Night
END:VEVENT
BEGIN:VEVENT
DTSTART;VALUE=DATE:20300929
DTEND;VALUE=DATE:20300930
DTSTAMP:20260419T141310
CREATED:20260403T163240Z
LAST-MODIFIED:20260403T163249Z
UID:10003309-1916870400-1916956799@thewinkinowl.com
SUMMARY:Wing Night(Day)
DESCRIPTION:
URL:https://thewinkinowl.com/event/wing-nightday-2/2030-09-29/
CATEGORIES:Week Night
END:VEVENT
BEGIN:VEVENT
DTSTART;VALUE=DATE:20301006
DTEND;VALUE=DATE:20301007
DTSTAMP:20260419T141310
CREATED:20260403T163240Z
LAST-MODIFIED:20260403T163249Z
UID:10003310-1917475200-1917561599@thewinkinowl.com
SUMMARY:Wing Night(Day)
DESCRIPTION:
URL:https://thewinkinowl.com/event/wing-nightday-2/2030-10-06/
CATEGORIES:Week Night
END:VEVENT
BEGIN:VEVENT
DTSTART;VALUE=DATE:20301013
DTEND;VALUE=DATE:20301014
DTSTAMP:20260419T141310
CREATED:20260403T163240Z
LAST-MODIFIED:20260403T163249Z
UID:10003311-1918080000-1918166399@thewinkinowl.com
SUMMARY:Wing Night(Day)
DESCRIPTION:
URL:https://thewinkinowl.com/event/wing-nightday-2/2030-10-13/
CATEGORIES:Week Night
END:VEVENT
BEGIN:VEVENT
DTSTART;VALUE=DATE:20301020
DTEND;VALUE=DATE:20301021
DTSTAMP:20260419T141310
CREATED:20260403T163240Z
LAST-MODIFIED:20260403T163249Z
UID:10003312-1918684800-1918771199@thewinkinowl.com
SUMMARY:Wing Night(Day)
DESCRIPTION:
URL:https://thewinkinowl.com/event/wing-nightday-2/2030-10-20/
CATEGORIES:Week Night
END:VEVENT
END:VCALENDAR