BEGIN:VCALENDAR
VERSION:2.0
PRODID:-//The Winkin Owl - ECPv6.15.20//NONSGML v1.0//EN
CALSCALE:GREGORIAN
METHOD:PUBLISH
X-WR-CALNAME:The Winkin Owl
X-ORIGINAL-URL:https://thewinkinowl.com
X-WR-CALDESC:Events for The Winkin Owl
REFRESH-INTERVAL;VALUE=DURATION:PT1H
X-Robots-Tag:noindex
X-PUBLISHED-TTL:PT1H
BEGIN:VTIMEZONE
TZID:America/Edmonton
BEGIN:DAYLIGHT
TZOFFSETFROM:-0700
TZOFFSETTO:-0600
TZNAME:MDT
DTSTART:20280312T090000
END:DAYLIGHT
BEGIN:STANDARD
TZOFFSETFROM:-0600
TZOFFSETTO:-0700
TZNAME:MST
DTSTART:20281105T080000
END:STANDARD
BEGIN:DAYLIGHT
TZOFFSETFROM:-0700
TZOFFSETTO:-0600
TZNAME:MDT
DTSTART:20290311T090000
END:DAYLIGHT
BEGIN:STANDARD
TZOFFSETFROM:-0600
TZOFFSETTO:-0700
TZNAME:MST
DTSTART:20291104T080000
END:STANDARD
BEGIN:DAYLIGHT
TZOFFSETFROM:-0700
TZOFFSETTO:-0600
TZNAME:MDT
DTSTART:20300310T090000
END:DAYLIGHT
BEGIN:STANDARD
TZOFFSETFROM:-0600
TZOFFSETTO:-0700
TZNAME:MST
DTSTART:20301103T080000
END:STANDARD
END:VTIMEZONE
BEGIN:VTIMEZONE
TZID:America/Toronto
BEGIN:DAYLIGHT
TZOFFSETFROM:-0500
TZOFFSETTO:-0400
TZNAME:EDT
DTSTART:20280312T070000
END:DAYLIGHT
BEGIN:STANDARD
TZOFFSETFROM:-0400
TZOFFSETTO:-0500
TZNAME:EST
DTSTART:20281105T060000
END:STANDARD
BEGIN:DAYLIGHT
TZOFFSETFROM:-0500
TZOFFSETTO:-0400
TZNAME:EDT
DTSTART:20290311T070000
END:DAYLIGHT
BEGIN:STANDARD
TZOFFSETFROM:-0400
TZOFFSETTO:-0500
TZNAME:EST
DTSTART:20291104T060000
END:STANDARD
BEGIN:DAYLIGHT
TZOFFSETFROM:-0500
TZOFFSETTO:-0400
TZNAME:EDT
DTSTART:20300310T070000
END:DAYLIGHT
BEGIN:STANDARD
TZOFFSETFROM:-0400
TZOFFSETTO:-0500
TZNAME:EST
DTSTART:20301103T060000
END:STANDARD
END:VTIMEZONE
BEGIN:VEVENT
DTSTART;TZID=America/Edmonton:20290313T190000
DTEND;TZID=America/Edmonton:20290313T210000
DTSTAMP:20260419T165057
CREATED:20240520T182517Z
LAST-MODIFIED:20240918T142825Z
UID:10000252-1868122800-1868130000@thewinkinowl.com
SUMMARY:Trivia Tuesdays
DESCRIPTION:
URL:https://thewinkinowl.com/event/trivia-tuesdays/2029-03-13/
CATEGORIES:Week Night
END:VEVENT
BEGIN:VEVENT
DTSTART;TZID=America/Toronto:20290314T140000
DTEND;TZID=America/Toronto:20290314T223000
DTSTAMP:20260419T165057
CREATED:20240603T135846Z
LAST-MODIFIED:20240918T142746Z
UID:10002601-1868191200-1868221800@thewinkinowl.com
SUMMARY:Wing Night
DESCRIPTION:
URL:https://thewinkinowl.com/event/wing-nite/2029-03-14/
CATEGORIES:Week Night
END:VEVENT
BEGIN:VEVENT
DTSTART;VALUE=DATE:20290318
DTEND;VALUE=DATE:20290319
DTSTAMP:20260419T165057
CREATED:20260403T163240Z
LAST-MODIFIED:20260403T163249Z
UID:10003229-1868486400-1868572799@thewinkinowl.com
SUMMARY:Wing Night(Day)
DESCRIPTION:
URL:https://thewinkinowl.com/event/wing-nightday-2/2029-03-18/
CATEGORIES:Week Night
END:VEVENT
BEGIN:VEVENT
DTSTART;TZID=America/Edmonton:20290320T190000
DTEND;TZID=America/Edmonton:20290320T210000
DTSTAMP:20260419T165057
CREATED:20240520T182517Z
LAST-MODIFIED:20240918T142825Z
UID:10000253-1868727600-1868734800@thewinkinowl.com
SUMMARY:Trivia Tuesdays
DESCRIPTION:
URL:https://thewinkinowl.com/event/trivia-tuesdays/2029-03-20/
CATEGORIES:Week Night
END:VEVENT
BEGIN:VEVENT
DTSTART;TZID=America/Toronto:20290321T140000
DTEND;TZID=America/Toronto:20290321T223000
DTSTAMP:20260419T165057
CREATED:20240603T135846Z
LAST-MODIFIED:20240918T142746Z
UID:10002602-1868796000-1868826600@thewinkinowl.com
SUMMARY:Wing Night
DESCRIPTION:
URL:https://thewinkinowl.com/event/wing-nite/2029-03-21/
CATEGORIES:Week Night
END:VEVENT
BEGIN:VEVENT
DTSTART;VALUE=DATE:20290325
DTEND;VALUE=DATE:20290326
DTSTAMP:20260419T165057
CREATED:20260403T163240Z
LAST-MODIFIED:20260403T163249Z
UID:10003230-1869091200-1869177599@thewinkinowl.com
SUMMARY:Wing Night(Day)
DESCRIPTION:
URL:https://thewinkinowl.com/event/wing-nightday-2/2029-03-25/
CATEGORIES:Week Night
END:VEVENT
BEGIN:VEVENT
DTSTART;TZID=America/Edmonton:20290327T190000
DTEND;TZID=America/Edmonton:20290327T210000
DTSTAMP:20260419T165057
CREATED:20240520T182517Z
LAST-MODIFIED:20240918T142825Z
UID:10000254-1869332400-1869339600@thewinkinowl.com
SUMMARY:Trivia Tuesdays
DESCRIPTION:
URL:https://thewinkinowl.com/event/trivia-tuesdays/2029-03-27/
CATEGORIES:Week Night
END:VEVENT
BEGIN:VEVENT
DTSTART;TZID=America/Toronto:20290328T140000
DTEND;TZID=America/Toronto:20290328T223000
DTSTAMP:20260419T165057
CREATED:20240603T135846Z
LAST-MODIFIED:20240918T142746Z
UID:10002603-1869400800-1869431400@thewinkinowl.com
SUMMARY:Wing Night
DESCRIPTION:
URL:https://thewinkinowl.com/event/wing-nite/2029-03-28/
CATEGORIES:Week Night
END:VEVENT
BEGIN:VEVENT
DTSTART;VALUE=DATE:20290401
DTEND;VALUE=DATE:20290402
DTSTAMP:20260419T165057
CREATED:20260403T163240Z
LAST-MODIFIED:20260403T163249Z
UID:10003231-1869696000-1869782399@thewinkinowl.com
SUMMARY:Wing Night(Day)
DESCRIPTION:
URL:https://thewinkinowl.com/event/wing-nightday-2/2029-04-01/
CATEGORIES:Week Night
END:VEVENT
BEGIN:VEVENT
DTSTART;TZID=America/Edmonton:20290403T190000
DTEND;TZID=America/Edmonton:20290403T210000
DTSTAMP:20260419T165057
CREATED:20240520T182517Z
LAST-MODIFIED:20240918T142825Z
UID:10000255-1869937200-1869944400@thewinkinowl.com
SUMMARY:Trivia Tuesdays
DESCRIPTION:
URL:https://thewinkinowl.com/event/trivia-tuesdays/2029-04-03/
CATEGORIES:Week Night
END:VEVENT
BEGIN:VEVENT
DTSTART;TZID=America/Toronto:20290404T140000
DTEND;TZID=America/Toronto:20290404T223000
DTSTAMP:20260419T165057
CREATED:20240603T135846Z
LAST-MODIFIED:20240918T142746Z
UID:10002604-1870005600-1870036200@thewinkinowl.com
SUMMARY:Wing Night
DESCRIPTION:
URL:https://thewinkinowl.com/event/wing-nite/2029-04-04/
CATEGORIES:Week Night
END:VEVENT
BEGIN:VEVENT
DTSTART;VALUE=DATE:20290408
DTEND;VALUE=DATE:20290409
DTSTAMP:20260419T165057
CREATED:20260403T163240Z
LAST-MODIFIED:20260403T163249Z
UID:10003232-1870300800-1870387199@thewinkinowl.com
SUMMARY:Wing Night(Day)
DESCRIPTION:
URL:https://thewinkinowl.com/event/wing-nightday-2/2029-04-08/
CATEGORIES:Week Night
END:VEVENT
BEGIN:VEVENT
DTSTART;TZID=America/Edmonton:20290410T190000
DTEND;TZID=America/Edmonton:20290410T210000
DTSTAMP:20260419T165057
CREATED:20240520T182517Z
LAST-MODIFIED:20240918T142825Z
UID:10000256-1870542000-1870549200@thewinkinowl.com
SUMMARY:Trivia Tuesdays
DESCRIPTION:
URL:https://thewinkinowl.com/event/trivia-tuesdays/2029-04-10/
CATEGORIES:Week Night
END:VEVENT
BEGIN:VEVENT
DTSTART;TZID=America/Toronto:20290411T140000
DTEND;TZID=America/Toronto:20290411T223000
DTSTAMP:20260419T165057
CREATED:20240603T135846Z
LAST-MODIFIED:20240918T142746Z
UID:10002605-1870610400-1870641000@thewinkinowl.com
SUMMARY:Wing Night
DESCRIPTION:
URL:https://thewinkinowl.com/event/wing-nite/2029-04-11/
CATEGORIES:Week Night
END:VEVENT
BEGIN:VEVENT
DTSTART;VALUE=DATE:20290415
DTEND;VALUE=DATE:20290416
DTSTAMP:20260419T165057
CREATED:20260403T163240Z
LAST-MODIFIED:20260403T163249Z
UID:10003233-1870905600-1870991999@thewinkinowl.com
SUMMARY:Wing Night(Day)
DESCRIPTION:
URL:https://thewinkinowl.com/event/wing-nightday-2/2029-04-15/
CATEGORIES:Week Night
END:VEVENT
BEGIN:VEVENT
DTSTART;TZID=America/Edmonton:20290417T190000
DTEND;TZID=America/Edmonton:20290417T210000
DTSTAMP:20260419T165057
CREATED:20240520T182517Z
LAST-MODIFIED:20240918T142825Z
UID:10000257-1871146800-1871154000@thewinkinowl.com
SUMMARY:Trivia Tuesdays
DESCRIPTION:
URL:https://thewinkinowl.com/event/trivia-tuesdays/2029-04-17/
CATEGORIES:Week Night
END:VEVENT
BEGIN:VEVENT
DTSTART;TZID=America/Toronto:20290418T140000
DTEND;TZID=America/Toronto:20290418T223000
DTSTAMP:20260419T165057
CREATED:20240603T135846Z
LAST-MODIFIED:20240918T142746Z
UID:10002606-1871215200-1871245800@thewinkinowl.com
SUMMARY:Wing Night
DESCRIPTION:
URL:https://thewinkinowl.com/event/wing-nite/2029-04-18/
CATEGORIES:Week Night
END:VEVENT
BEGIN:VEVENT
DTSTART;VALUE=DATE:20290422
DTEND;VALUE=DATE:20290423
DTSTAMP:20260419T165057
CREATED:20260403T163240Z
LAST-MODIFIED:20260403T163249Z
UID:10003234-1871510400-1871596799@thewinkinowl.com
SUMMARY:Wing Night(Day)
DESCRIPTION:
URL:https://thewinkinowl.com/event/wing-nightday-2/2029-04-22/
CATEGORIES:Week Night
END:VEVENT
BEGIN:VEVENT
DTSTART;TZID=America/Edmonton:20290424T190000
DTEND;TZID=America/Edmonton:20290424T210000
DTSTAMP:20260419T165057
CREATED:20240520T182517Z
LAST-MODIFIED:20240918T142825Z
UID:10000258-1871751600-1871758800@thewinkinowl.com
SUMMARY:Trivia Tuesdays
DESCRIPTION:
URL:https://thewinkinowl.com/event/trivia-tuesdays/2029-04-24/
CATEGORIES:Week Night
END:VEVENT
BEGIN:VEVENT
DTSTART;TZID=America/Toronto:20290425T140000
DTEND;TZID=America/Toronto:20290425T223000
DTSTAMP:20260419T165057
CREATED:20240603T135846Z
LAST-MODIFIED:20240918T142746Z
UID:10002607-1871820000-1871850600@thewinkinowl.com
SUMMARY:Wing Night
DESCRIPTION:
URL:https://thewinkinowl.com/event/wing-nite/2029-04-25/
CATEGORIES:Week Night
END:VEVENT
BEGIN:VEVENT
DTSTART;VALUE=DATE:20290429
DTEND;VALUE=DATE:20290430
DTSTAMP:20260419T165057
CREATED:20260403T163240Z
LAST-MODIFIED:20260403T163249Z
UID:10003235-1872115200-1872201599@thewinkinowl.com
SUMMARY:Wing Night(Day)
DESCRIPTION:
URL:https://thewinkinowl.com/event/wing-nightday-2/2029-04-29/
CATEGORIES:Week Night
END:VEVENT
BEGIN:VEVENT
DTSTART;TZID=America/Edmonton:20290501T190000
DTEND;TZID=America/Edmonton:20290501T210000
DTSTAMP:20260419T165057
CREATED:20240520T182517Z
LAST-MODIFIED:20240918T142825Z
UID:10000259-1872356400-1872363600@thewinkinowl.com
SUMMARY:Trivia Tuesdays
DESCRIPTION:
URL:https://thewinkinowl.com/event/trivia-tuesdays/2029-05-01/
CATEGORIES:Week Night
END:VEVENT
BEGIN:VEVENT
DTSTART;TZID=America/Toronto:20290502T140000
DTEND;TZID=America/Toronto:20290502T223000
DTSTAMP:20260419T165057
CREATED:20240603T135846Z
LAST-MODIFIED:20240918T142746Z
UID:10002608-1872424800-1872455400@thewinkinowl.com
SUMMARY:Wing Night
DESCRIPTION:
URL:https://thewinkinowl.com/event/wing-nite/2029-05-02/
CATEGORIES:Week Night
END:VEVENT
BEGIN:VEVENT
DTSTART;VALUE=DATE:20290506
DTEND;VALUE=DATE:20290507
DTSTAMP:20260419T165057
CREATED:20260403T163240Z
LAST-MODIFIED:20260403T163249Z
UID:10003236-1872720000-1872806399@thewinkinowl.com
SUMMARY:Wing Night(Day)
DESCRIPTION:
URL:https://thewinkinowl.com/event/wing-nightday-2/2029-05-06/
CATEGORIES:Week Night
END:VEVENT
BEGIN:VEVENT
DTSTART;TZID=America/Edmonton:20290508T190000
DTEND;TZID=America/Edmonton:20290508T210000
DTSTAMP:20260419T165057
CREATED:20240520T182517Z
LAST-MODIFIED:20240918T142825Z
UID:10000260-1872961200-1872968400@thewinkinowl.com
SUMMARY:Trivia Tuesdays
DESCRIPTION:
URL:https://thewinkinowl.com/event/trivia-tuesdays/2029-05-08/
CATEGORIES:Week Night
END:VEVENT
BEGIN:VEVENT
DTSTART;TZID=America/Toronto:20290509T140000
DTEND;TZID=America/Toronto:20290509T223000
DTSTAMP:20260419T165057
CREATED:20240603T135846Z
LAST-MODIFIED:20240918T142746Z
UID:10002609-1873029600-1873060200@thewinkinowl.com
SUMMARY:Wing Night
DESCRIPTION:
URL:https://thewinkinowl.com/event/wing-nite/2029-05-09/
CATEGORIES:Week Night
END:VEVENT
BEGIN:VEVENT
DTSTART;VALUE=DATE:20290513
DTEND;VALUE=DATE:20290514
DTSTAMP:20260419T165057
CREATED:20260403T163240Z
LAST-MODIFIED:20260403T163249Z
UID:10003237-1873324800-1873411199@thewinkinowl.com
SUMMARY:Wing Night(Day)
DESCRIPTION:
URL:https://thewinkinowl.com/event/wing-nightday-2/2029-05-13/
CATEGORIES:Week Night
END:VEVENT
BEGIN:VEVENT
DTSTART;TZID=America/Edmonton:20290515T190000
DTEND;TZID=America/Edmonton:20290515T210000
DTSTAMP:20260419T165057
CREATED:20240520T182517Z
LAST-MODIFIED:20240918T142825Z
UID:10000261-1873566000-1873573200@thewinkinowl.com
SUMMARY:Trivia Tuesdays
DESCRIPTION:
URL:https://thewinkinowl.com/event/trivia-tuesdays/2029-05-15/
CATEGORIES:Week Night
END:VEVENT
BEGIN:VEVENT
DTSTART;TZID=America/Toronto:20290516T140000
DTEND;TZID=America/Toronto:20290516T223000
DTSTAMP:20260419T165057
CREATED:20240603T135846Z
LAST-MODIFIED:20240918T142746Z
UID:10002610-1873634400-1873665000@thewinkinowl.com
SUMMARY:Wing Night
DESCRIPTION:
URL:https://thewinkinowl.com/event/wing-nite/2029-05-16/
CATEGORIES:Week Night
END:VEVENT
BEGIN:VEVENT
DTSTART;VALUE=DATE:20290520
DTEND;VALUE=DATE:20290521
DTSTAMP:20260419T165057
CREATED:20260403T163240Z
LAST-MODIFIED:20260403T163249Z
UID:10003238-1873929600-1874015999@thewinkinowl.com
SUMMARY:Wing Night(Day)
DESCRIPTION:
URL:https://thewinkinowl.com/event/wing-nightday-2/2029-05-20/
CATEGORIES:Week Night
END:VEVENT
END:VCALENDAR