BEGIN:VCALENDAR
VERSION:2.0
PRODID:-//The Winkin Owl - ECPv6.15.20//NONSGML v1.0//EN
CALSCALE:GREGORIAN
METHOD:PUBLISH
X-WR-CALNAME:The Winkin Owl
X-ORIGINAL-URL:https://thewinkinowl.com
X-WR-CALDESC:Events for The Winkin Owl
REFRESH-INTERVAL;VALUE=DURATION:PT1H
X-Robots-Tag:noindex
X-PUBLISHED-TTL:PT1H
BEGIN:VTIMEZONE
TZID:America/Edmonton
BEGIN:DAYLIGHT
TZOFFSETFROM:-0700
TZOFFSETTO:-0600
TZNAME:MDT
DTSTART:20280312T090000
END:DAYLIGHT
BEGIN:STANDARD
TZOFFSETFROM:-0600
TZOFFSETTO:-0700
TZNAME:MST
DTSTART:20281105T080000
END:STANDARD
BEGIN:DAYLIGHT
TZOFFSETFROM:-0700
TZOFFSETTO:-0600
TZNAME:MDT
DTSTART:20290311T090000
END:DAYLIGHT
BEGIN:STANDARD
TZOFFSETFROM:-0600
TZOFFSETTO:-0700
TZNAME:MST
DTSTART:20291104T080000
END:STANDARD
BEGIN:DAYLIGHT
TZOFFSETFROM:-0700
TZOFFSETTO:-0600
TZNAME:MDT
DTSTART:20300310T090000
END:DAYLIGHT
BEGIN:STANDARD
TZOFFSETFROM:-0600
TZOFFSETTO:-0700
TZNAME:MST
DTSTART:20301103T080000
END:STANDARD
END:VTIMEZONE
BEGIN:VTIMEZONE
TZID:America/Toronto
BEGIN:DAYLIGHT
TZOFFSETFROM:-0500
TZOFFSETTO:-0400
TZNAME:EDT
DTSTART:20280312T070000
END:DAYLIGHT
BEGIN:STANDARD
TZOFFSETFROM:-0400
TZOFFSETTO:-0500
TZNAME:EST
DTSTART:20281105T060000
END:STANDARD
BEGIN:DAYLIGHT
TZOFFSETFROM:-0500
TZOFFSETTO:-0400
TZNAME:EDT
DTSTART:20290311T070000
END:DAYLIGHT
BEGIN:STANDARD
TZOFFSETFROM:-0400
TZOFFSETTO:-0500
TZNAME:EST
DTSTART:20291104T060000
END:STANDARD
BEGIN:DAYLIGHT
TZOFFSETFROM:-0500
TZOFFSETTO:-0400
TZNAME:EDT
DTSTART:20300310T070000
END:DAYLIGHT
BEGIN:STANDARD
TZOFFSETFROM:-0400
TZOFFSETTO:-0500
TZNAME:EST
DTSTART:20301103T060000
END:STANDARD
END:VTIMEZONE
BEGIN:VEVENT
DTSTART;TZID=America/Edmonton:20290731T190000
DTEND;TZID=America/Edmonton:20290731T210000
DTSTAMP:20260419T213437
CREATED:20240520T182517Z
LAST-MODIFIED:20240918T142825Z
UID:10002637-1880218800-1880226000@thewinkinowl.com
SUMMARY:Trivia Tuesdays
DESCRIPTION:
URL:https://thewinkinowl.com/event/trivia-tuesdays/2029-07-31/
CATEGORIES:Week Night
END:VEVENT
BEGIN:VEVENT
DTSTART;TZID=America/Toronto:20290801T140000
DTEND;TZID=America/Toronto:20290801T223000
DTSTAMP:20260419T213437
CREATED:20240603T135846Z
LAST-MODIFIED:20240918T142746Z
UID:10002622-1880287200-1880317800@thewinkinowl.com
SUMMARY:Wing Night
DESCRIPTION:
URL:https://thewinkinowl.com/event/wing-nite/2029-08-01/
CATEGORIES:Week Night
END:VEVENT
BEGIN:VEVENT
DTSTART;VALUE=DATE:20290805
DTEND;VALUE=DATE:20290806
DTSTAMP:20260419T213437
CREATED:20260403T163240Z
LAST-MODIFIED:20260403T163249Z
UID:10003249-1880582400-1880668799@thewinkinowl.com
SUMMARY:Wing Night(Day)
DESCRIPTION:
URL:https://thewinkinowl.com/event/wing-nightday-2/2029-08-05/
CATEGORIES:Week Night
END:VEVENT
BEGIN:VEVENT
DTSTART;TZID=America/Edmonton:20290807T190000
DTEND;TZID=America/Edmonton:20290807T210000
DTSTAMP:20260419T213437
CREATED:20240520T182517Z
LAST-MODIFIED:20240918T142825Z
UID:10002638-1880823600-1880830800@thewinkinowl.com
SUMMARY:Trivia Tuesdays
DESCRIPTION:
URL:https://thewinkinowl.com/event/trivia-tuesdays/2029-08-07/
CATEGORIES:Week Night
END:VEVENT
BEGIN:VEVENT
DTSTART;TZID=America/Toronto:20290808T140000
DTEND;TZID=America/Toronto:20290808T223000
DTSTAMP:20260419T213437
CREATED:20240603T135846Z
LAST-MODIFIED:20240918T142746Z
UID:10002623-1880892000-1880922600@thewinkinowl.com
SUMMARY:Wing Night
DESCRIPTION:
URL:https://thewinkinowl.com/event/wing-nite/2029-08-08/
CATEGORIES:Week Night
END:VEVENT
BEGIN:VEVENT
DTSTART;VALUE=DATE:20290812
DTEND;VALUE=DATE:20290813
DTSTAMP:20260419T213437
CREATED:20260403T163240Z
LAST-MODIFIED:20260403T163249Z
UID:10003250-1881187200-1881273599@thewinkinowl.com
SUMMARY:Wing Night(Day)
DESCRIPTION:
URL:https://thewinkinowl.com/event/wing-nightday-2/2029-08-12/
CATEGORIES:Week Night
END:VEVENT
BEGIN:VEVENT
DTSTART;TZID=America/Edmonton:20290814T190000
DTEND;TZID=America/Edmonton:20290814T210000
DTSTAMP:20260419T213437
CREATED:20240520T182517Z
LAST-MODIFIED:20240918T142825Z
UID:10002639-1881428400-1881435600@thewinkinowl.com
SUMMARY:Trivia Tuesdays
DESCRIPTION:
URL:https://thewinkinowl.com/event/trivia-tuesdays/2029-08-14/
CATEGORIES:Week Night
END:VEVENT
BEGIN:VEVENT
DTSTART;TZID=America/Toronto:20290815T140000
DTEND;TZID=America/Toronto:20290815T223000
DTSTAMP:20260419T213437
CREATED:20240603T135846Z
LAST-MODIFIED:20240918T142746Z
UID:10002624-1881496800-1881527400@thewinkinowl.com
SUMMARY:Wing Night
DESCRIPTION:
URL:https://thewinkinowl.com/event/wing-nite/2029-08-15/
CATEGORIES:Week Night
END:VEVENT
BEGIN:VEVENT
DTSTART;VALUE=DATE:20290819
DTEND;VALUE=DATE:20290820
DTSTAMP:20260419T213437
CREATED:20260403T163240Z
LAST-MODIFIED:20260403T163249Z
UID:10003251-1881792000-1881878399@thewinkinowl.com
SUMMARY:Wing Night(Day)
DESCRIPTION:
URL:https://thewinkinowl.com/event/wing-nightday-2/2029-08-19/
CATEGORIES:Week Night
END:VEVENT
BEGIN:VEVENT
DTSTART;TZID=America/Edmonton:20290821T190000
DTEND;TZID=America/Edmonton:20290821T210000
DTSTAMP:20260419T213437
CREATED:20240520T182517Z
LAST-MODIFIED:20240918T142825Z
UID:10002640-1882033200-1882040400@thewinkinowl.com
SUMMARY:Trivia Tuesdays
DESCRIPTION:
URL:https://thewinkinowl.com/event/trivia-tuesdays/2029-08-21/
CATEGORIES:Week Night
END:VEVENT
BEGIN:VEVENT
DTSTART;TZID=America/Toronto:20290822T140000
DTEND;TZID=America/Toronto:20290822T223000
DTSTAMP:20260419T213437
CREATED:20240603T135846Z
LAST-MODIFIED:20240918T142746Z
UID:10002625-1882101600-1882132200@thewinkinowl.com
SUMMARY:Wing Night
DESCRIPTION:
URL:https://thewinkinowl.com/event/wing-nite/2029-08-22/
CATEGORIES:Week Night
END:VEVENT
BEGIN:VEVENT
DTSTART;VALUE=DATE:20290826
DTEND;VALUE=DATE:20290827
DTSTAMP:20260419T213437
CREATED:20260403T163240Z
LAST-MODIFIED:20260403T163249Z
UID:10003252-1882396800-1882483199@thewinkinowl.com
SUMMARY:Wing Night(Day)
DESCRIPTION:
URL:https://thewinkinowl.com/event/wing-nightday-2/2029-08-26/
CATEGORIES:Week Night
END:VEVENT
BEGIN:VEVENT
DTSTART;TZID=America/Edmonton:20290828T190000
DTEND;TZID=America/Edmonton:20290828T210000
DTSTAMP:20260419T213437
CREATED:20240520T182517Z
LAST-MODIFIED:20240918T142825Z
UID:10002641-1882638000-1882645200@thewinkinowl.com
SUMMARY:Trivia Tuesdays
DESCRIPTION:
URL:https://thewinkinowl.com/event/trivia-tuesdays/2029-08-28/
CATEGORIES:Week Night
END:VEVENT
BEGIN:VEVENT
DTSTART;TZID=America/Toronto:20290829T140000
DTEND;TZID=America/Toronto:20290829T223000
DTSTAMP:20260419T213437
CREATED:20240603T135846Z
LAST-MODIFIED:20240918T142746Z
UID:10002626-1882706400-1882737000@thewinkinowl.com
SUMMARY:Wing Night
DESCRIPTION:
URL:https://thewinkinowl.com/event/wing-nite/2029-08-29/
CATEGORIES:Week Night
END:VEVENT
BEGIN:VEVENT
DTSTART;VALUE=DATE:20290902
DTEND;VALUE=DATE:20290903
DTSTAMP:20260419T213437
CREATED:20260403T163240Z
LAST-MODIFIED:20260403T163249Z
UID:10003253-1883001600-1883087999@thewinkinowl.com
SUMMARY:Wing Night(Day)
DESCRIPTION:
URL:https://thewinkinowl.com/event/wing-nightday-2/2029-09-02/
CATEGORIES:Week Night
END:VEVENT
BEGIN:VEVENT
DTSTART;TZID=America/Edmonton:20290904T190000
DTEND;TZID=America/Edmonton:20290904T210000
DTSTAMP:20260419T213437
CREATED:20240520T182517Z
LAST-MODIFIED:20240918T142825Z
UID:10002642-1883242800-1883250000@thewinkinowl.com
SUMMARY:Trivia Tuesdays
DESCRIPTION:
URL:https://thewinkinowl.com/event/trivia-tuesdays/2029-09-04/
CATEGORIES:Week Night
END:VEVENT
BEGIN:VEVENT
DTSTART;TZID=America/Toronto:20290905T140000
DTEND;TZID=America/Toronto:20290905T223000
DTSTAMP:20260419T213437
CREATED:20240603T135846Z
LAST-MODIFIED:20240918T142746Z
UID:10002627-1883311200-1883341800@thewinkinowl.com
SUMMARY:Wing Night
DESCRIPTION:
URL:https://thewinkinowl.com/event/wing-nite/2029-09-05/
CATEGORIES:Week Night
END:VEVENT
BEGIN:VEVENT
DTSTART;VALUE=DATE:20290909
DTEND;VALUE=DATE:20290910
DTSTAMP:20260419T213437
CREATED:20260403T163240Z
LAST-MODIFIED:20260403T163249Z
UID:10003254-1883606400-1883692799@thewinkinowl.com
SUMMARY:Wing Night(Day)
DESCRIPTION:
URL:https://thewinkinowl.com/event/wing-nightday-2/2029-09-09/
CATEGORIES:Week Night
END:VEVENT
BEGIN:VEVENT
DTSTART;TZID=America/Edmonton:20290911T190000
DTEND;TZID=America/Edmonton:20290911T210000
DTSTAMP:20260419T213437
CREATED:20240520T182517Z
LAST-MODIFIED:20240918T142825Z
UID:10002643-1883847600-1883854800@thewinkinowl.com
SUMMARY:Trivia Tuesdays
DESCRIPTION:
URL:https://thewinkinowl.com/event/trivia-tuesdays/2029-09-11/
CATEGORIES:Week Night
END:VEVENT
BEGIN:VEVENT
DTSTART;TZID=America/Toronto:20290912T140000
DTEND;TZID=America/Toronto:20290912T223000
DTSTAMP:20260419T213437
CREATED:20240603T135846Z
LAST-MODIFIED:20240918T142746Z
UID:10002628-1883916000-1883946600@thewinkinowl.com
SUMMARY:Wing Night
DESCRIPTION:
URL:https://thewinkinowl.com/event/wing-nite/2029-09-12/
CATEGORIES:Week Night
END:VEVENT
BEGIN:VEVENT
DTSTART;VALUE=DATE:20290916
DTEND;VALUE=DATE:20290917
DTSTAMP:20260419T213437
CREATED:20260403T163240Z
LAST-MODIFIED:20260403T163249Z
UID:10003255-1884211200-1884297599@thewinkinowl.com
SUMMARY:Wing Night(Day)
DESCRIPTION:
URL:https://thewinkinowl.com/event/wing-nightday-2/2029-09-16/
CATEGORIES:Week Night
END:VEVENT
BEGIN:VEVENT
DTSTART;TZID=America/Edmonton:20290918T190000
DTEND;TZID=America/Edmonton:20290918T210000
DTSTAMP:20260419T213437
CREATED:20240520T182517Z
LAST-MODIFIED:20240918T142825Z
UID:10002644-1884452400-1884459600@thewinkinowl.com
SUMMARY:Trivia Tuesdays
DESCRIPTION:
URL:https://thewinkinowl.com/event/trivia-tuesdays/2029-09-18/
CATEGORIES:Week Night
END:VEVENT
BEGIN:VEVENT
DTSTART;VALUE=DATE:20290923
DTEND;VALUE=DATE:20290924
DTSTAMP:20260419T213437
CREATED:20260403T163240Z
LAST-MODIFIED:20260403T163249Z
UID:10003256-1884816000-1884902399@thewinkinowl.com
SUMMARY:Wing Night(Day)
DESCRIPTION:
URL:https://thewinkinowl.com/event/wing-nightday-2/2029-09-23/
CATEGORIES:Week Night
END:VEVENT
BEGIN:VEVENT
DTSTART;VALUE=DATE:20290930
DTEND;VALUE=DATE:20291001
DTSTAMP:20260419T213437
CREATED:20260403T163240Z
LAST-MODIFIED:20260403T163249Z
UID:10003257-1885420800-1885507199@thewinkinowl.com
SUMMARY:Wing Night(Day)
DESCRIPTION:
URL:https://thewinkinowl.com/event/wing-nightday-2/2029-09-30/
CATEGORIES:Week Night
END:VEVENT
BEGIN:VEVENT
DTSTART;VALUE=DATE:20291007
DTEND;VALUE=DATE:20291008
DTSTAMP:20260419T213437
CREATED:20260403T163240Z
LAST-MODIFIED:20260403T163249Z
UID:10003258-1886025600-1886111999@thewinkinowl.com
SUMMARY:Wing Night(Day)
DESCRIPTION:
URL:https://thewinkinowl.com/event/wing-nightday-2/2029-10-07/
CATEGORIES:Week Night
END:VEVENT
BEGIN:VEVENT
DTSTART;VALUE=DATE:20291014
DTEND;VALUE=DATE:20291015
DTSTAMP:20260419T213437
CREATED:20260403T163240Z
LAST-MODIFIED:20260403T163249Z
UID:10003259-1886630400-1886716799@thewinkinowl.com
SUMMARY:Wing Night(Day)
DESCRIPTION:
URL:https://thewinkinowl.com/event/wing-nightday-2/2029-10-14/
CATEGORIES:Week Night
END:VEVENT
BEGIN:VEVENT
DTSTART;VALUE=DATE:20291021
DTEND;VALUE=DATE:20291022
DTSTAMP:20260419T213437
CREATED:20260403T163240Z
LAST-MODIFIED:20260403T163249Z
UID:10003260-1887235200-1887321599@thewinkinowl.com
SUMMARY:Wing Night(Day)
DESCRIPTION:
URL:https://thewinkinowl.com/event/wing-nightday-2/2029-10-21/
CATEGORIES:Week Night
END:VEVENT
BEGIN:VEVENT
DTSTART;VALUE=DATE:20291028
DTEND;VALUE=DATE:20291029
DTSTAMP:20260419T213437
CREATED:20260403T163240Z
LAST-MODIFIED:20260403T163249Z
UID:10003261-1887840000-1887926399@thewinkinowl.com
SUMMARY:Wing Night(Day)
DESCRIPTION:
URL:https://thewinkinowl.com/event/wing-nightday-2/2029-10-28/
CATEGORIES:Week Night
END:VEVENT
BEGIN:VEVENT
DTSTART;VALUE=DATE:20291104
DTEND;VALUE=DATE:20291105
DTSTAMP:20260419T213437
CREATED:20260403T163240Z
LAST-MODIFIED:20260403T163249Z
UID:10003262-1888444800-1888527599@thewinkinowl.com
SUMMARY:Wing Night(Day)
DESCRIPTION:
URL:https://thewinkinowl.com/event/wing-nightday-2/2029-11-04/
CATEGORIES:Week Night
END:VEVENT
BEGIN:VEVENT
DTSTART;VALUE=DATE:20291111
DTEND;VALUE=DATE:20291112
DTSTAMP:20260419T213437
CREATED:20260403T163240Z
LAST-MODIFIED:20260403T163249Z
UID:10003263-1889049600-1889135999@thewinkinowl.com
SUMMARY:Wing Night(Day)
DESCRIPTION:
URL:https://thewinkinowl.com/event/wing-nightday-2/2029-11-11/
CATEGORIES:Week Night
END:VEVENT
END:VCALENDAR